BEGIN:VCALENDAR
VERSION:2.0
PRODID:-//TV Herren St. Silvester - ECPv6.15.20//NONSGML v1.0//EN
CALSCALE:GREGORIAN
METHOD:PUBLISH
X-ORIGINAL-URL:http://www.tvh-stsilvester.ch
X-WR-CALDESC:Veranstaltungen im TV Herren St. Silvester
REFRESH-INTERVAL;VALUE=DURATION:PT1H
X-Robots-Tag:noindex
X-PUBLISHED-TTL:PT1H
BEGIN:VTIMEZONE
TZID:Europe/Zurich
BEGIN:DAYLIGHT
TZOFFSETFROM:+0100
TZOFFSETTO:+0200
TZNAME:CEST
DTSTART:20190331T010000
END:DAYLIGHT
BEGIN:STANDARD
TZOFFSETFROM:+0200
TZOFFSETTO:+0100
TZNAME:CET
DTSTART:20191027T010000
END:STANDARD
BEGIN:DAYLIGHT
TZOFFSETFROM:+0100
TZOFFSETTO:+0200
TZNAME:CEST
DTSTART:20200329T010000
END:DAYLIGHT
BEGIN:STANDARD
TZOFFSETFROM:+0200
TZOFFSETTO:+0100
TZNAME:CET
DTSTART:20201025T010000
END:STANDARD
BEGIN:DAYLIGHT
TZOFFSETFROM:+0100
TZOFFSETTO:+0200
TZNAME:CEST
DTSTART:20210328T010000
END:DAYLIGHT
BEGIN:STANDARD
TZOFFSETFROM:+0200
TZOFFSETTO:+0100
TZNAME:CET
DTSTART:20211031T010000
END:STANDARD
BEGIN:DAYLIGHT
TZOFFSETFROM:+0100
TZOFFSETTO:+0200
TZNAME:CEST
DTSTART:20220327T010000
END:DAYLIGHT
BEGIN:STANDARD
TZOFFSETFROM:+0200
TZOFFSETTO:+0100
TZNAME:CET
DTSTART:20221030T010000
END:STANDARD
END:VTIMEZONE
BEGIN:VEVENT
DTSTART;TZID=Europe/Zurich:20201104T160000
DTEND;TZID=Europe/Zurich:20201130T080000
DTSTAMP:20260419T202104
CREATED:20201104T145912Z
LAST-MODIFIED:20201104T145912Z
UID:1449-1604505600-1606723200@www.tvh-stsilvester.ch
SUMMARY:Turnbetrieb von Mittwoch 19.30 Uhr in Turnhalle bis 30. November 2020 eingestellt
DESCRIPTION:Ab Mittwoch 4. November 2020 wird der Turnbetrieb in der Turnhalle eingestellt. \nAls Alternativ-Programm wird jeweils eine Outdoor-Aktivität geplant. \nBesten Dank für das Verständis. \nSportliche Grüsse \nYves & Vorturner
URL:http://www.tvh-stsilvester.ch/event/turnbetrieb-von-mittwoch-19-30-uhr-in-turnhalle-bis-30-november-2020-eingestellt/
LOCATION:Turnhalle St. Silvester\, St. Silvester\, Switzerland
END:VEVENT
BEGIN:VEVENT
DTSTART;TZID=Europe/Zurich:20201130T080000
DTEND;TZID=Europe/Zurich:20210621T213000
DTSTAMP:20260419T202104
CREATED:20201104T150050Z
LAST-MODIFIED:20201104T150046Z
UID:1119-1606723200-1624311000@www.tvh-stsilvester.ch
SUMMARY:Turnbetrieb Wintersaison (23. September 2020 bis 14. April 2021)
DESCRIPTION:Turnbetrieb Winter in Turnhalle St. Silvester (jeweils am Mittwoch von 19.30 bis 21.30 Uhr)
URL:http://www.tvh-stsilvester.ch/event/turnbetrieb-wintersaison-2/
LOCATION:Turnhalle St. Silvester\, St. Silvester\, Switzerland
END:VEVENT
END:VCALENDAR