BEGIN:VCALENDAR
VERSION:2.0
PRODID:-//TV Herren St. Silvester - ECPv6.15.20//NONSGML v1.0//EN
CALSCALE:GREGORIAN
METHOD:PUBLISH
X-WR-CALNAME:TV Herren St. Silvester
X-ORIGINAL-URL:http://www.tvh-stsilvester.ch
X-WR-CALDESC:Veranstaltungen im TV Herren St. Silvester
REFRESH-INTERVAL;VALUE=DURATION:PT1H
X-Robots-Tag:noindex
X-PUBLISHED-TTL:PT1H
BEGIN:VTIMEZONE
TZID:Europe/Zurich
BEGIN:DAYLIGHT
TZOFFSETFROM:+0100
TZOFFSETTO:+0200
TZNAME:CEST
DTSTART:20190331T010000
END:DAYLIGHT
BEGIN:STANDARD
TZOFFSETFROM:+0200
TZOFFSETTO:+0100
TZNAME:CET
DTSTART:20191027T010000
END:STANDARD
BEGIN:DAYLIGHT
TZOFFSETFROM:+0100
TZOFFSETTO:+0200
TZNAME:CEST
DTSTART:20200329T010000
END:DAYLIGHT
BEGIN:STANDARD
TZOFFSETFROM:+0200
TZOFFSETTO:+0100
TZNAME:CET
DTSTART:20201025T010000
END:STANDARD
BEGIN:DAYLIGHT
TZOFFSETFROM:+0100
TZOFFSETTO:+0200
TZNAME:CEST
DTSTART:20210328T010000
END:DAYLIGHT
BEGIN:STANDARD
TZOFFSETFROM:+0200
TZOFFSETTO:+0100
TZNAME:CET
DTSTART:20211031T010000
END:STANDARD
END:VTIMEZONE
BEGIN:VEVENT
DTSTART;TZID=Europe/Zurich:20201021T193000
DTEND;TZID=Europe/Zurich:20201021T230000
DTSTAMP:20260419T215652
CREATED:20180920T115444Z
LAST-MODIFIED:20191023T154154Z
UID:1121-1603308600-1603321200@www.tvh-stsilvester.ch
SUMMARY:39. Generalversammlung
DESCRIPTION:
URL:http://www.tvh-stsilvester.ch/event/39-generalversammlung/
LOCATION:Vereinslokal Turnhalle St. Silvester\, Turnhalle\, St. Silvester\, Freiburg\, 1736\, Switzerland
END:VEVENT
END:VCALENDAR