BEGIN:VCALENDAR
VERSION:2.0
PRODID:-//TV Herren St. Silvester - ECPv6.15.20//NONSGML v1.0//EN
CALSCALE:GREGORIAN
METHOD:PUBLISH
X-WR-CALNAME:TV Herren St. Silvester
X-ORIGINAL-URL:http://www.tvh-stsilvester.ch
X-WR-CALDESC:Veranstaltungen im TV Herren St. Silvester
REFRESH-INTERVAL;VALUE=DURATION:PT1H
X-Robots-Tag:noindex
X-PUBLISHED-TTL:PT1H
BEGIN:VTIMEZONE
TZID:Europe/Zurich
BEGIN:DAYLIGHT
TZOFFSETFROM:+0100
TZOFFSETTO:+0200
TZNAME:CEST
DTSTART:20190331T010000
END:DAYLIGHT
BEGIN:STANDARD
TZOFFSETFROM:+0200
TZOFFSETTO:+0100
TZNAME:CET
DTSTART:20191027T010000
END:STANDARD
BEGIN:DAYLIGHT
TZOFFSETFROM:+0100
TZOFFSETTO:+0200
TZNAME:CEST
DTSTART:20200329T010000
END:DAYLIGHT
BEGIN:STANDARD
TZOFFSETFROM:+0200
TZOFFSETTO:+0100
TZNAME:CET
DTSTART:20201025T010000
END:STANDARD
BEGIN:DAYLIGHT
TZOFFSETFROM:+0100
TZOFFSETTO:+0200
TZNAME:CEST
DTSTART:20210328T010000
END:DAYLIGHT
BEGIN:STANDARD
TZOFFSETFROM:+0200
TZOFFSETTO:+0100
TZNAME:CET
DTSTART:20211031T010000
END:STANDARD
END:VTIMEZONE
BEGIN:VEVENT
DTSTART;TZID=Europe/Zurich:20200912T090000
DTEND;TZID=Europe/Zurich:20200912T230000
DTSTAMP:20260419T233803
CREATED:20180920T115243Z
LAST-MODIFIED:20200722T145320Z
UID:1117-1599901200-1599951600@www.tvh-stsilvester.ch
SUMMARY:Bergausflug (Gantrisch oder Rundweg)
DESCRIPTION:Schwierigkeitsgrad: Mittel \nMarschdauer: 3.5 bis 4 Stunden \nGesamtdauer inkl. Picknick: ca. 6 Stunden \nNachtessen um 19.00 Uhr beim Restaurant Chemi-Hütta \nAnmeldung bis Freitag 4. September 2020 beim Präsident oder mittels Doodle-Umfrage WhatsApp-Gruppe!
URL:http://www.tvh-stsilvester.ch/event/bergausflug-3/
LOCATION:Unbekannt\, Unbekannt\, Switzerland
END:VEVENT
BEGIN:VEVENT
DTSTART;TZID=Europe/Zurich:20200916T183000
DTEND;TZID=Europe/Zurich:20200916T200000
DTSTAMP:20260419T233803
CREATED:20200915T184534Z
LAST-MODIFIED:20200915T184534Z
UID:1378-1600281000-1600286400@www.tvh-stsilvester.ch
SUMMARY:Outdoor-Aktivität - Leichte Wanderung 60 bis 90 Minuten ab Turnhalle St. Silvester "Treffpunkt Turnhalle St. Silvester um 18.30 Uhr"
DESCRIPTION:Zur Sicherheit\, Leuchtweste und Stirnlampe oder Taschenlampe mitnehmen.
URL:http://www.tvh-stsilvester.ch/event/outdoor-aktivitaet-leichte-wanderung-60-bis-90-minuten-ab-turnhalle-st-silvester-treffpunkt-turnhalle-st-silvester-um-18-30-uhr/
LOCATION:Turnhalle St. Silvester\, St. Silvester\, Switzerland
END:VEVENT
END:VCALENDAR