BEGIN:VCALENDAR
VERSION:2.0
PRODID:-//TV Herren St. Silvester - ECPv6.15.20//NONSGML v1.0//EN
CALSCALE:GREGORIAN
METHOD:PUBLISH
X-WR-CALNAME:TV Herren St. Silvester
X-ORIGINAL-URL:http://www.tvh-stsilvester.ch
X-WR-CALDESC:Veranstaltungen im TV Herren St. Silvester
REFRESH-INTERVAL;VALUE=DURATION:PT1H
X-Robots-Tag:noindex
X-PUBLISHED-TTL:PT1H
BEGIN:VTIMEZONE
TZID:Europe/Zurich
BEGIN:DAYLIGHT
TZOFFSETFROM:+0100
TZOFFSETTO:+0200
TZNAME:CEST
DTSTART:20190331T010000
END:DAYLIGHT
BEGIN:STANDARD
TZOFFSETFROM:+0200
TZOFFSETTO:+0100
TZNAME:CET
DTSTART:20191027T010000
END:STANDARD
BEGIN:DAYLIGHT
TZOFFSETFROM:+0100
TZOFFSETTO:+0200
TZNAME:CEST
DTSTART:20200329T010000
END:DAYLIGHT
BEGIN:STANDARD
TZOFFSETFROM:+0200
TZOFFSETTO:+0100
TZNAME:CET
DTSTART:20201025T010000
END:STANDARD
BEGIN:DAYLIGHT
TZOFFSETFROM:+0100
TZOFFSETTO:+0200
TZNAME:CEST
DTSTART:20210328T010000
END:DAYLIGHT
BEGIN:STANDARD
TZOFFSETFROM:+0200
TZOFFSETTO:+0100
TZNAME:CET
DTSTART:20211031T010000
END:STANDARD
END:VTIMEZONE
BEGIN:VEVENT
DTSTART;TZID=Europe/Zurich:20200826T180000
DTEND;TZID=Europe/Zurich:20200826T230000
DTSTAMP:20260420T012130
CREATED:20191008T113152Z
LAST-MODIFIED:20200825T055624Z
UID:1273-1598464800-1598482800@www.tvh-stsilvester.ch
SUMMARY:Abend Bergwanderung (Flühkäseberg)
DESCRIPTION:Treffpunkt 18.00 Uhr bei der Turnhalle in St. Silvester \nWanderung + Nachtessen (à la carte oder falls Fondue bei Anmeldung angeben)
URL:http://www.tvh-stsilvester.ch/event/abend-bergwanderung-fluehkaeseberg-grau-rappo-oder-hauta-chia/
LOCATION:Unbekannt\, Unbekannt\, Switzerland
END:VEVENT
END:VCALENDAR