BEGIN:VCALENDAR
VERSION:2.0
PRODID:-//TV Herren St. Silvester - ECPv6.15.20//NONSGML v1.0//EN
CALSCALE:GREGORIAN
METHOD:PUBLISH
X-WR-CALNAME:TV Herren St. Silvester
X-ORIGINAL-URL:http://www.tvh-stsilvester.ch
X-WR-CALDESC:Veranstaltungen im TV Herren St. Silvester
REFRESH-INTERVAL;VALUE=DURATION:PT1H
X-Robots-Tag:noindex
X-PUBLISHED-TTL:PT1H
BEGIN:VTIMEZONE
TZID:Europe/Zurich
BEGIN:DAYLIGHT
TZOFFSETFROM:+0100
TZOFFSETTO:+0200
TZNAME:CEST
DTSTART:20180325T010000
END:DAYLIGHT
BEGIN:STANDARD
TZOFFSETFROM:+0200
TZOFFSETTO:+0100
TZNAME:CET
DTSTART:20181028T010000
END:STANDARD
BEGIN:DAYLIGHT
TZOFFSETFROM:+0100
TZOFFSETTO:+0200
TZNAME:CEST
DTSTART:20190331T010000
END:DAYLIGHT
BEGIN:STANDARD
TZOFFSETFROM:+0200
TZOFFSETTO:+0100
TZNAME:CET
DTSTART:20191027T010000
END:STANDARD
BEGIN:DAYLIGHT
TZOFFSETFROM:+0100
TZOFFSETTO:+0200
TZNAME:CEST
DTSTART:20200329T010000
END:DAYLIGHT
BEGIN:STANDARD
TZOFFSETFROM:+0200
TZOFFSETTO:+0100
TZNAME:CET
DTSTART:20201025T010000
END:STANDARD
BEGIN:DAYLIGHT
TZOFFSETFROM:+0100
TZOFFSETTO:+0200
TZNAME:CEST
DTSTART:20210328T010000
END:DAYLIGHT
BEGIN:STANDARD
TZOFFSETFROM:+0200
TZOFFSETTO:+0100
TZNAME:CET
DTSTART:20211031T010000
END:STANDARD
END:VTIMEZONE
BEGIN:VEVENT
DTSTART;TZID=Europe/Zurich:20190918T193000
DTEND;TZID=Europe/Zurich:20200415T213000
DTSTAMP:20260420T093558
CREATED:20180920T114446Z
LAST-MODIFIED:20180920T114446Z
UID:1103-1568835000-1586986200@www.tvh-stsilvester.ch
SUMMARY:Turnbetrieb Wintersaison
DESCRIPTION:
URL:http://www.tvh-stsilvester.ch/event/turnbetrieb-wintersaison/
LOCATION:Turnhalle St. Silvester\, St. Silvester\, Switzerland
END:VEVENT
BEGIN:VEVENT
DTSTART;TZID=Europe/Zurich:20200318T180000
DTEND;TZID=Europe/Zurich:20200318T230000
DTSTAMP:20260420T093558
CREATED:20191008T112322Z
LAST-MODIFIED:20200317T112525Z
UID:1262-1584554400-1584572400@www.tvh-stsilvester.ch
SUMMARY:Abendskifahren - findet aufgrund der Pandemie nicht statt!
DESCRIPTION:Werte TV-Kollegen\, aufgrund der neuen Massnahmen welche das BAG in der Pressekonferenz vom 16. März 2020 definiert und kommuniziert hat\, verzichten wir bis auf Weiteres auf jegliche Gruppen-Aktivitäten bis mindestens am 19. April. \nBesten Dank für das Verständnis und gute Gesundheit! \nFreundliche Grüsse Yves
URL:http://www.tvh-stsilvester.ch/event/abendskifahren/
LOCATION:Schwarzsee
END:VEVENT
BEGIN:VEVENT
DTSTART;TZID=Europe/Zurich:20200325T180000
DTEND;TZID=Europe/Zurich:20200325T230000
DTSTAMP:20260420T093558
CREATED:20191008T112504Z
LAST-MODIFIED:20200317T112615Z
UID:1264-1585159200-1585177200@www.tvh-stsilvester.ch
SUMMARY:Thermalbad - findet aufgrund der Pandemie nicht statt!
DESCRIPTION:Werte TV-Kollegen\, aufgrund der neuen Massnahmen welche das BAG in der Pressekonferenz vom 16. März 2020 definiert und kommuniziert hat\, verzichten wir bis auf Weiteres auf jegliche Gruppen-Aktivitäten bis mindestens am 19. April. \nBesten Dank für das Verständnis und gute Gesundheit! \nFreundliche Grüsse Yves
URL:http://www.tvh-stsilvester.ch/event/thermalbad/
LOCATION:Charmey
END:VEVENT
END:VCALENDAR