BEGIN:VCALENDAR
VERSION:2.0
PRODID:-//TV Herren St. Silvester - ECPv6.15.20//NONSGML v1.0//EN
CALSCALE:GREGORIAN
METHOD:PUBLISH
X-ORIGINAL-URL:http://www.tvh-stsilvester.ch
X-WR-CALDESC:Veranstaltungen im TV Herren St. Silvester
REFRESH-INTERVAL;VALUE=DURATION:PT1H
X-Robots-Tag:noindex
X-PUBLISHED-TTL:PT1H
BEGIN:VTIMEZONE
TZID:Europe/Zurich
BEGIN:DAYLIGHT
TZOFFSETFROM:+0100
TZOFFSETTO:+0200
TZNAME:CEST
DTSTART:20180325T010000
END:DAYLIGHT
BEGIN:STANDARD
TZOFFSETFROM:+0200
TZOFFSETTO:+0100
TZNAME:CET
DTSTART:20181028T010000
END:STANDARD
BEGIN:DAYLIGHT
TZOFFSETFROM:+0100
TZOFFSETTO:+0200
TZNAME:CEST
DTSTART:20190331T010000
END:DAYLIGHT
BEGIN:STANDARD
TZOFFSETFROM:+0200
TZOFFSETTO:+0100
TZNAME:CET
DTSTART:20191027T010000
END:STANDARD
BEGIN:DAYLIGHT
TZOFFSETFROM:+0100
TZOFFSETTO:+0200
TZNAME:CEST
DTSTART:20200329T010000
END:DAYLIGHT
BEGIN:STANDARD
TZOFFSETFROM:+0200
TZOFFSETTO:+0100
TZNAME:CET
DTSTART:20201025T010000
END:STANDARD
BEGIN:DAYLIGHT
TZOFFSETFROM:+0100
TZOFFSETTO:+0200
TZNAME:CEST
DTSTART:20210328T010000
END:DAYLIGHT
BEGIN:STANDARD
TZOFFSETFROM:+0200
TZOFFSETTO:+0100
TZNAME:CET
DTSTART:20211031T010000
END:STANDARD
END:VTIMEZONE
BEGIN:VEVENT
DTSTART;TZID=Europe/Zurich:20190918T193000
DTEND;TZID=Europe/Zurich:20200415T213000
DTSTAMP:20260420T173255
CREATED:20180920T114446Z
LAST-MODIFIED:20180920T114446Z
UID:1103-1568835000-1586986200@www.tvh-stsilvester.ch
SUMMARY:Turnbetrieb Wintersaison
DESCRIPTION:
URL:http://www.tvh-stsilvester.ch/event/turnbetrieb-wintersaison/
LOCATION:Turnhalle St. Silvester\, St. Silvester\, Switzerland
END:VEVENT
BEGIN:VEVENT
DTSTART;TZID=Europe/Zurich:20191016T200000
DTEND;TZID=Europe/Zurich:20191016T230000
DTSTAMP:20260420T173255
CREATED:20180920T114634Z
LAST-MODIFIED:20180920T114712Z
UID:1105-1571256000-1571266800@www.tvh-stsilvester.ch
SUMMARY:38. Generalversammlung 2019
DESCRIPTION:
URL:http://www.tvh-stsilvester.ch/event/38-generalversammlung-2019/
LOCATION:Vereinslokal Turnhalle St. Silvester\, Turnhalle\, St. Silvester\, Freiburg\, 1736\, Switzerland
END:VEVENT
BEGIN:VEVENT
DTSTART;TZID=Europe/Zurich:20191026T090000
DTEND;TZID=Europe/Zurich:20191026T110000
DTSTAMP:20260420T173255
CREATED:20191008T122542Z
LAST-MODIFIED:20191008T122542Z
UID:1312-1572080400-1572087600@www.tvh-stsilvester.ch
SUMMARY:Fototermin mit Gold-Sponsoren
DESCRIPTION:Mitglieder die eine neue Vereinsjacke bestellt haben müssen diese mitnehmen! \n09.00 Uhr : Treffpunkt im Vereinssaal für die Ausgabe der Vereinsjacken \n09.30 bis 10.30 Uhr: Fototermin im Schulhausareal mit den Gold-Sponsoren \nFotograf: Herr Adrian Aeby
URL:http://www.tvh-stsilvester.ch/event/fototermin-mit-gold-sponsoren/
LOCATION:Vereinslokal Turnhalle St. Silvester\, Turnhalle\, St. Silvester\, Freiburg\, 1736\, Switzerland
END:VEVENT
END:VCALENDAR